BEGIN:VCALENDAR
VERSION:2.0
PRODID:-//Blackdown Hills National Landscape - ECPv4.6.15//NONSGML v1.0//EN
CALSCALE:GREGORIAN
METHOD:PUBLISH
X-WR-CALNAME:Blackdown Hills National Landscape
X-ORIGINAL-URL:https://blackdownhills.org.uk
X-WR-CALDESC:Events for Blackdown Hills National Landscape
BEGIN:VEVENT
DTSTART;TZID=Europe/London:20240912T180000
DTEND;TZID=Europe/London:20240912T190000
DTSTAMP:20260421T235411
CREATED:20240801T160434Z
LAST-MODIFIED:20240801T164536Z
UID:7833-1726164000-1726167600@blackdownhills.org.uk
SUMMARY:Mills of the River Culm walking tour
DESCRIPTION:Join us on Thurday 12 September 6pm at Coldharbour Mill for the Mills of the River Culm walking tour. \nThe walking tour of the Coldharbour Mill estate\, led by Bryher Mason\, Chair of Trustees at Coldharbour Mill and Associate Director at Avalon Planning and Heritage\, will explore the evidence for the dynamic industrial past of the mill. We will also examine how industry has impacted the wider Culm Valley and how its heritage is managed today. \nWe will meet at the Coldharbour Mill carpark and the walking tour will last about one hour. We will be walking on rough and potentially muddy paths. Appropriate footwear is required\, and long trousers are recommended. \nThis event is part of the Blackdown Hills National Landscape Festival of Heritage 2024. \nFree event. Click here to book your place. \n
URL:https://blackdownhills.org.uk/event/mills-of-the-river-culm-walking-tour/
LOCATION:Uffculme\, Cullompton\, Devon\, EX15 3EE
GEO:50.9028098;-3.3343087
X-APPLE-STRUCTURED-LOCATION;VALUE=URI;X-ADDRESS=Uffculme Cullompton Devon EX15 3EE;X-APPLE-RADIUS=500;X-TITLE=Uffculme:geo:-3.3343087,50.9028098
CATEGORIES:Guided walk,Heritage & history
ATTACH;FMTTYPE=image/jpeg:https://blackdownhills.org.uk/wp-content/uploads/2018/06/coldharbour-mill-e1530612178164.jpg
ORGANIZER;CN="Blackdown%20Hills%20National%20Landscape":MAILTO:blackdownhills@devon.gov.uk
END:VEVENT
END:VCALENDAR