BEGIN:VCALENDAR
VERSION:2.0
PRODID:-//Blackdown Hills National Landscape - ECPv4.6.15//NONSGML v1.0//EN
CALSCALE:GREGORIAN
METHOD:PUBLISH
X-WR-CALNAME:Blackdown Hills National Landscape
X-ORIGINAL-URL:https://blackdownhills.org.uk
X-WR-CALDESC:Events for Blackdown Hills National Landscape
BEGIN:VEVENT
DTSTART;TZID=Europe/London:20240910T100000
DTEND;TZID=Europe/London:20240910T120000
DTSTAMP:20260421T204519
CREATED:20240801T154521Z
LAST-MODIFIED:20240822T112138Z
UID:7828-1725962400-1725969600@blackdownhills.org.uk
SUMMARY:RAF Upottery guided tour
DESCRIPTION:RAF Upottery guided tour \nJoin us for a unique guided tour of the historic airfield at RAF Upottery\, led by the knowledgeable Brian Lane-Smith\, chair of the South West Airfields Heritage Trust. \nRAF Upottery\, also known as Smeatharpe\, is a former Royal Air Force station built during the Second World War. Its location on high\, flat land in the Blackdown Hills\, close to the Atlantic and the English Channel\, made it ideal for use primarily as a transport airfield and for antisubmarine patrols. Opened in 1944\, it was used by the Royal Air Force\, United States Army Air Forces (USAAF) and United States Navy. It was closed in 1948 after the end of the war and today the remains of the airfield are located on private property. \nDuring the tour\, you’ll find out about the base’s role during the Second World War. \nWe will meet at Upottery Heritage Centre\, Slough Lane\, Smeatharpe Devon\, EX14 9RD where Brian will guide you through the Second World War displays located in a historic Nissen hut before touring RAF Upottery. Due to the size of the airfield\, participants will need to use their own cars to drive in convoy across the site\, stopping at various locations of interest. \nThe tour will last approximately two hours. \nFacilities are available at the Upottery Heritage Centre\, but non will be available at RAF Upottery. \nBooking is essential due to limited availability. \nThis event is part of the Blackdown Hills National Landscape – Festival of Heritage 2024. \nClick here to book your place. \n \n
URL:https://blackdownhills.org.uk/event/raf-upottery-guided-tour/
LOCATION:Cherry Hayes Farm\, Slough Lane\, Smeatharpe\,\, EX14 9RD
CATEGORIES:Guided walk,Heritage & history
ATTACH;FMTTYPE=image/jpeg:https://blackdownhills.org.uk/wp-content/uploads/2018/04/smeatharpe-upottery-e1723803571244.jpg
ORGANIZER;CN="Blackdown%20Hills%20National%20Landscape":MAILTO:blackdownhills@devon.gov.uk
END:VEVENT
BEGIN:VEVENT
DTSTART;TZID=Europe/London:20240910T140000
DTEND;TZID=Europe/London:20240910T160000
DTSTAMP:20260421T204519
CREATED:20240801T154521Z
LAST-MODIFIED:20240822T112115Z
UID:7902-1725976800-1725984000@blackdownhills.org.uk
SUMMARY:RAF Upottery guided tour
DESCRIPTION:RAF Upottery guided tour \nJoin us for a unique guided tour of the historic airfield at RAF Upottery\, led by the knowledgeable Brian Lane-Smith\, chair of the South West Airfields Heritage Trust. \nRAF Upottery\, also known as Smeatharpe\, is a former Royal Air Force station built during the Second World War. Its location on high\, flat land in the Blackdown Hills\, close to the Atlantic and the English Channel\, made it ideal for use primarily as a transport airfield and for antisubmarine patrols. Opened in 1944\, it was used by the Royal Air Force\, United States Army Air Forces (USAAF) and United States Navy. It was closed in 1948 after the end of the war and today the remains of the airfield are located on private property. \nDuring the tour\, you’ll find out about the base’s role during the Second World War. \nWe will meet at Upottery Heritage Centre\, Slough Lane\, Smeatharpe Devon\, EX14 9RD where Brian will guide you through the Second World War displays located in a historic Nissen hut before touring RAF Upottery. Due to the size of the airfield\, participants will need to use their own cars to drive in convoy across the site\, stopping at various locations of interest. \nThe tour will last approximately two hours. \nFacilities are available at the Upottery Heritage Centre\, but non will be available at RAF Upottery. \nBooking is essential due to limited availability. \nThis event is part of the Blackdown Hills National Landscape – Festival of Heritage 2024. \nClick here to book your place. \n \n
URL:https://blackdownhills.org.uk/event/raf-upottery-guided-tour-2024-09-10/2024-09-10/2/
LOCATION:Cherry Hayes Farm\, Slough Lane\, Smeatharpe\,\, EX14 9RD
CATEGORIES:Guided walk,Heritage & history
ATTACH;FMTTYPE=image/jpeg:https://blackdownhills.org.uk/wp-content/uploads/2018/04/smeatharpe-upottery-e1723803571244.jpg
ORGANIZER;CN="Blackdown%20Hills%20National%20Landscape":MAILTO:blackdownhills@devon.gov.uk
END:VEVENT
END:VCALENDAR