BEGIN:VCALENDAR
VERSION:2.0
PRODID:-//Blackdown Hills National Landscape - ECPv4.6.15//NONSGML v1.0//EN
CALSCALE:GREGORIAN
METHOD:PUBLISH
X-WR-CALNAME:Blackdown Hills National Landscape
X-ORIGINAL-URL:https://blackdownhills.org.uk
X-WR-CALDESC:Events for Blackdown Hills National Landscape
BEGIN:VEVENT
DTSTART;TZID=Europe/London:20240527T100000
DTEND;TZID=Europe/London:20240527T160000
DTSTAMP:20260423T222603
CREATED:20240426T150742Z
LAST-MODIFIED:20240426T152431Z
UID:7747-1716804000-1716825600@blackdownhills.org.uk
SUMMARY:May celebration at Ferne Animal Sanctuary
DESCRIPTION:Ferne Animal Sanctuary are thrilled to host their very first May Celebration\, dedicated to honouring wildlife! It’s an event not to be missed! \nPond dipping\nJoin the Creative Corner team with nets and magnifying pots to explore the pond life that call Ferne their home; including baby newts\, pond snails\, beetle larvae and water boatmen. \nWildlife photography stands\nExplore some of the local talent and wildlife in Somerset and Devon with our wildlife photography stands where you can purchase some beautiful shots for yourself or as a gift. \nWildlife walk\nFind out about the wildlife that call Ferne home including in our bug hotels at Fernehenge with a wildlife walk conducted by our Creative Corner team. \nSpot the frog\nYou might have spotted Freddy Ferne on our social media and at events recently\, but have you heard about his friend Lollihops? Come and see if you can spot our frog mascot who will be at this wildlife event! \nAnimal talks\nNicole\, a consultant ecologist working with bats and other protected animals\, will be coming along to give you a talk on everything bats. \nDen building\nGet hands-on experience in the art of wilderness survival. Learn how to build your own den and tree identification from the estates team. Master resilience in nature and discover essential skills to thrive in the great outdoors. \n  \nEvery visit supports Ferne Animal Santuary’s mission to provide care\, shelter\, and love to animals in need. Your attendance helps make a difference in their lives. Additionally\, for events only you can enjoy a reduced rate of £5 per adult and £1 per child. \nCelebrate the May bank holiday with Ferne! Engage in wildlife education activities and enjoy a day filled with surprises and fun for the whole family. \n
URL:https://blackdownhills.org.uk/event/may-celebration/
LOCATION:Wambrook\, Chard\, Somerset\, TA20 3DH
GEO:50.866634;-3.029792
X-APPLE-STRUCTURED-LOCATION;VALUE=URI;X-ADDRESS=Wambrook Chard Somerset TA20 3DH;X-APPLE-RADIUS=500;X-TITLE=Wambrook:geo:-3.029792,50.866634
CATEGORIES:Children's Activities,Nature & wildlife
ATTACH;FMTTYPE=image/jpeg:https://blackdownhills.org.uk/wp-content/uploads/2024/04/ferne-may-celebration-e1714144332573.jpeg
ORGANIZER;CN="Ferne%20Animal%20Sanctuary":MAILTO:frm@ferneanimalsanctuary.org
END:VEVENT
END:VCALENDAR