BEGIN:VCALENDAR
VERSION:2.0
PRODID:-//Blackdown Hills National Landscape - ECPv4.6.15//NONSGML v1.0//EN
CALSCALE:GREGORIAN
METHOD:PUBLISH
X-WR-CALNAME:Blackdown Hills National Landscape
X-ORIGINAL-URL:https://blackdownhills.org.uk
X-WR-CALDESC:Events for Blackdown Hills National Landscape
BEGIN:VEVENT
DTSTART;TZID=Europe/London:20230121T090000
DTEND;TZID=Europe/London:20230121T160000
DTSTAMP:20260420T070036
CREATED:20221209T181540Z
LAST-MODIFIED:20221209T182138Z
UID:6920-1674291600-1674316800@blackdownhills.org.uk
SUMMARY:Hedgelaying event - Churchstanton
DESCRIPTION:Calling experienced hedge layers\, those wanting to learn a new skill\, people to help with catering\, helpers for site clearance… \nJoin our growing group of volunteers dedicated to the development of our precious community asset. \nRefreshments (including lunch and tea) will be available for all volunteers. \nTo volunteer and for further information please contact Trisha Comrie – trishacomrie@gmail.com 01823 602908 \n
URL:https://blackdownhills.org.uk/event/hedgelaying-event-churchstanton/
END:VEVENT
END:VCALENDAR