BEGIN:VCALENDAR
VERSION:2.0
PRODID:-//Blackdown Hills National Landscape - ECPv4.6.15//NONSGML v1.0//EN
CALSCALE:GREGORIAN
METHOD:PUBLISH
X-WR-CALNAME:Blackdown Hills National Landscape
X-ORIGINAL-URL:https://blackdownhills.org.uk
X-WR-CALDESC:Events for Blackdown Hills National Landscape
BEGIN:VEVENT
DTSTART;TZID=Europe/London:20221109T103000
DTEND;TZID=Europe/London:20221109T150000
DTSTAMP:20260424T171300
CREATED:20221104T163336Z
LAST-MODIFIED:20221104T163336Z
UID:6895-1667989800-1668006000@blackdownhills.org.uk
SUMMARY:Dunkeswell Abbey
DESCRIPTION:As part of Devon County Council’s Monument Mangement Scheme\, join us for a practical work party day at Dunkeswell Abbey.  We will be having an autumn tidy up of the site around the ruins.  In addition\, we hope to have a walk over the grounds of the monument to look at the initial findings of a recent geophysical survey. \nPlease wear clothing and footwear suitable for the activity and the weather. \nTools & refreshments will be provided. Please note there are no toilet facilities on site. \nThere is limited parking\, please car share if possible. \n
URL:https://blackdownhills.org.uk/event/dunkeswell-abbey/
LOCATION:Dunkeswell\, Honiton\, Devon\, EX14 4RP\, United Kingdom
GEO:50.8884258;-3.2236764
X-APPLE-STRUCTURED-LOCATION;VALUE=URI;X-ADDRESS=Dunkeswell Honiton Devon EX14 4RP United Kingdom;X-APPLE-RADIUS=500;X-TITLE=Dunkeswell:geo:-3.2236764,50.8884258
CATEGORIES:Heritage & history,Volunteering
ATTACH;FMTTYPE=image/jpeg:https://blackdownhills.org.uk/wp-content/uploads/2022/03/dunkeswell-abbey-church.jpg
ORGANIZER;CN="Blackdown%20Hills%20National%20Landscape":MAILTO:blackdownhills@devon.gov.uk
END:VEVENT
END:VCALENDAR