BEGIN:VCALENDAR
VERSION:2.0
PRODID:-//Blackdown Hills National Landscape - ECPv4.6.15//NONSGML v1.0//EN
CALSCALE:GREGORIAN
METHOD:PUBLISH
X-WR-CALNAME:Blackdown Hills National Landscape
X-ORIGINAL-URL:https://blackdownhills.org.uk
X-WR-CALDESC:Events for Blackdown Hills National Landscape
BEGIN:VEVENT
DTSTART;TZID=Europe/London:20180622T193000
DTEND;TZID=Europe/London:20180622T214500
DTSTAMP:20260422T173959
CREATED:20180614T163114Z
LAST-MODIFIED:20180614T175444Z
UID:2415-1529695800-1529703900@blackdownhills.org.uk
SUMMARY:Miracle Theatre – The Cherry Orchard
DESCRIPTION:Open Air Theatre at Smeatharpe Stadium. Miracle Theatre Company presents The Cherry Orchard\, Chekhov’s bittersweet comedy about a once-wealthy family\, whose idleness and extravagance have brought them to the brink of bankruptcy. Obstinate and self-absorbed\, they are deaf to the rumblings of change which surrounds them\, and unable to accept help when they need it. \nWill it take a revolution to destroy their cosy world of privilege and entitlement – or will their own stupidity be enough? \nBill Scott’s new adaptation treads the tragicomic tightrope\, bringing out all the humour and pathos of Chekhov’s masterpiece which\, more than a century after it was written is as popular as ever. \nCornwall’s award winning Miracle Theatre has developed a strong reputation for producing entertaining and dynamic adaptations of classic plays. \nGo and see for yourself! \nThis event takes place at Smeatharpe Stadium. This box car and banger rally stadium is located high up in the Blackdown Hills next to an old WWII airstrip. Free parking available. Gates open 6.30pm. \n
URL:https://blackdownhills.org.uk/event/miracle-theatre-the-cherry-orchard/
LOCATION:Smeatharpe\, Devon\, EX14 4SR
GEO:50.878548;-3.1779963
CATEGORIES:Art & culture
ATTACH;FMTTYPE=image/jpeg:https://blackdownhills.org.uk/wp-content/uploads/2018/06/cherry-orchard.jpg
ORGANIZER;CN="The%20Beehive":MAILTO:manager@beehivehoniton.co.uk
END:VEVENT
END:VCALENDAR