BEGIN:VCALENDAR
VERSION:2.0
PRODID:-//Blackdown Hills National Landscape - ECPv4.6.15//NONSGML v1.0//EN
CALSCALE:GREGORIAN
METHOD:PUBLISH
X-WR-CALNAME:Blackdown Hills National Landscape
X-ORIGINAL-URL:https://blackdownhills.org.uk
X-WR-CALDESC:Events for Blackdown Hills National Landscape
BEGIN:VEVENT
DTSTART;TZID=Europe/London:20180614T210000
DTEND;TZID=Europe/London:20180614T223000
DTSTAMP:20260423T055033
CREATED:20180320T152411Z
LAST-MODIFIED:20180614T142447Z
UID:1256-1529010000-1529015400@blackdownhills.org.uk
SUMMARY:Nightjars and owls
DESCRIPTION:Join us for an evening adventure at Staple Hill for a nightjar and owl walk and talk. \nWe will be guided by experts from the Somerset Ornithological Society and the British Trust for Ornithology on the search for the elusive nightjar; we will be listening out for their distinctive calls and if we are lucky we may even catch a glimpse these rarely seen birds. We will also be listening out for owls. \nThe evening will consist of a longer walk around Staple Hill and North Down Plantation within the Blackdown Hills. As we walk\, you will be provided with a variety of information regarding nightjar and owl ecology\, conservation practices and the behaviours of these fascinating birds. \nWeather dependant – we will keep you updated. The location may change depending on nightjar activity. \nBooking is essential. \nClick here to book \n
URL:https://blackdownhills.org.uk/event/nightjars-and-owls/
GEO:50.9406329;-3.0869178
CATEGORIES:Guided walk
ATTACH;FMTTYPE=image/jpeg:https://blackdownhills.org.uk/wp-content/uploads/2018/03/tawny-owl.jpg
ORGANIZER;CN="Blackdown%20Hills%20National%20Landscape":MAILTO:blackdownhills@devon.gov.uk
END:VEVENT
END:VCALENDAR