BEGIN:VCALENDAR
VERSION:2.0
PRODID:-//Blackdown Hills National Landscape - ECPv4.6.15//NONSGML v1.0//EN
CALSCALE:GREGORIAN
METHOD:PUBLISH
X-WR-CALNAME:Blackdown Hills National Landscape
X-ORIGINAL-URL:https://blackdownhills.org.uk
X-WR-CALDESC:Events for Blackdown Hills National Landscape
BEGIN:VEVENT
DTSTART;TZID=Europe/London:20180524T193000
DTEND;TZID=Europe/London:20180524T223000
DTSTAMP:20260424T105339
CREATED:20180403T132325Z
LAST-MODIFIED:20180403T133101Z
UID:1405-1527190200-1527201000@blackdownhills.org.uk
SUMMARY:Bats by the Riverside
DESCRIPTION:Join the Devon Greater Horseshoe Bat Project for an illustrated talk about bats\, followed by a walk along the River Culm to discover which bat species can be found. Bat detectors provided. \nBring a torch\, warm clothes and stout footwear. \nRefreshments available – donations to the Devon Greater Horseshoe Bat Project. \nThis free event is run as part of the Culm Community Crayfish project funded by the Heritage Lottery Fund. \nBooking essential. \nClick here to book a place. \n
URL:https://blackdownhills.org.uk/event/bats-by-the-riverside/
LOCATION:Culmstock\, Devon\, EX15 3HQ\, United Kingdom
GEO:50.9183138;-3.278856
CATEGORIES:Culm Community Crayfish,Guided walk,Somerset Festival of Nature
ATTACH;FMTTYPE=image/jpeg:https://blackdownhills.org.uk/wp-content/uploads/2018/04/pipistrellus_flight2.jpg
ORGANIZER;CN="Blackdown%20Hills%20National%20Landscape":MAILTO:blackdownhills@devon.gov.uk
END:VEVENT
END:VCALENDAR