BEGIN:VCALENDAR
VERSION:2.0
PRODID:-//Blackdown Hills National Landscape - ECPv4.6.15//NONSGML v1.0//EN
CALSCALE:GREGORIAN
METHOD:PUBLISH
X-WR-CALNAME:Blackdown Hills National Landscape
X-ORIGINAL-URL:https://blackdownhills.org.uk
X-WR-CALDESC:Events for Blackdown Hills National Landscape
BEGIN:VEVENT
DTSTART;TZID=Europe/London:20180520T133000
DTEND;TZID=Europe/London:20180520T170000
DTSTAMP:20260424T171430
CREATED:20180403T135319Z
LAST-MODIFIED:20180403T141439Z
UID:1409-1526823000-1526835600@blackdownhills.org.uk
SUMMARY:Wildwood Open Sunday
DESCRIPTION:Open afternoon at Young Wood near Staple Fitzpaine. \nExplore these beautiful woods\, have-a-go crafts for grown-ups\, family activities\, woodland\, local and natural products for sale\, tea and cakes in the pop-up café. \nA chance to come and explore Young Wood\, the home of Neroche Woodlanders in the public forest estate. \nLearn more about what we do\, events coming up or just enjoy the beauty and atmosphere on a late spring day. Try some woodland crafting activities or bring the kids and mess about with clay\, leaves or play in the mud kitchen! Our pop-up café will be selling tea and cakes\, you can enrol for courses\, find out about volunteering days with Neroche Conservation Volunteers\,  buy our lovely sustainable charcoal and other local products. \nEntrance is free but some activities will have a charge. \nSuitable for adults and children. \nFacilities\nToilets on site \nRefreshments on sale \nTravel\nParking on site \nAccessible via public transport \nAccess\nLevel surface \nNo obstructions or barriers (e.g. steps or styles). \n  \nNo need to book \n
URL:https://blackdownhills.org.uk/event/wildwood-open-sunday/
LOCATION:Staple Fitzpaine\, Somerset\, TA3 5AZ\, United Kingdom
GEO:50.980157;-3.055335
CATEGORIES:Nature & wellbeing
END:VEVENT
END:VCALENDAR