BEGIN:VCALENDAR
VERSION:2.0
PRODID:-//Blackdown Hills National Landscape - ECPv4.6.15//NONSGML v1.0//EN
CALSCALE:GREGORIAN
METHOD:PUBLISH
X-WR-CALNAME:Blackdown Hills National Landscape
X-ORIGINAL-URL:https://blackdownhills.org.uk
X-WR-CALDESC:Events for Blackdown Hills National Landscape
BEGIN:VEVENT
DTSTART;TZID=Europe/London:20180512T050000
DTEND;TZID=Europe/London:20180512T070000
DTSTAMP:20260425T041334
CREATED:20180320T144441Z
LAST-MODIFIED:20180509T083926Z
UID:1248-1526101200-1526108400@blackdownhills.org.uk
SUMMARY:Dawn chorus
DESCRIPTION:Get up with the larks for a leisurely walk to enjoy the dawn chorus in the Blackdown Hills AONB. We will be listening and looking out for a variety of birds as they awaken and provide us with a medley of songs and calls. The group will be led by experts from the Somerset Ornithological Society. All ages and abilities welcome. \nBook online or call 01823 681 937 \n
URL:https://blackdownhills.org.uk/event/dawn-chorus/
LOCATION:TA3 7EE
GEO:50.922775;-3.1081452
CATEGORIES:Guided walk,Nature & wellbeing,Somerset Festival of Nature,Volunteering
ATTACH;FMTTYPE=image/jpeg:https://blackdownhills.org.uk/wp-content/uploads/2018/03/dawn.jpg
END:VEVENT
BEGIN:VEVENT
DTSTART;TZID=Europe/London:20180512T090000
DTEND;TZID=Europe/London:20180512T160000
DTSTAMP:20260425T041334
CREATED:20180320T145239Z
LAST-MODIFIED:20180424T173542Z
UID:1250-1526115600-1526140800@blackdownhills.org.uk
SUMMARY:Monitoring riverflies
DESCRIPTION:The Culm Community Crayfish project\, the River Exe and Tributaries Association and The Riverfly Partnership are teaming up to provide free training to anyone interested in conducting regular freshwater invertebrate sampling of the upper River Culm and its tributaries. \n\n\nAbout the survey\nThe Angler’s Riverfly Monitoring Initiative (ARMI) was launched by the Riverfly Partnership in 2007 to enable anglers and other interested groups to actively monitor and protect their local rivers. It helps rivers to be monitored more widely and at greater frequency than is possible by the Environment Agency alone.\n\nThe ARMI monitoring technique involves pairs of volunteers taking 3-minute ‘kick samples’ from the river bed\, and recording the presence and abundance of eight pollution-sensitive invertebrate groups. The focus of the sampling is on ‘riverflies’ – mayflies\, stoneflies and caddisflies. These macro-invertebrates are very sensitive to pollution and are therefore good indicators of water quality; changes in species abundance may be the first sign of a pollution problem. If invertebrate numbers drop below expected levels the Environment Agency are informed and will take action to investigate the suspected pollution incident. The riverfly data held by each river group will also allow for long-term changes to be identified\, and the regular presence of volunteers on the river will discourage potential polluters.\nEquipment needed\nWellies\, waders if you have them and lunch. All other equipment will be provided\n\nPlease note this training is aimed at volunteers working in pairs who can commit to carrying out a minimum of three surveys each year on the River Culm and its tributaries.\n\n\n\nFree\n\nBooking required\n\nBook online or call 01823 681 937\n
URL:https://blackdownhills.org.uk/event/monitoring-riverflies/
LOCATION:Riverside\, Hemyock\, Devon\, EX15 3SH\, United Kingdom
GEO:50.918478;-3.224196
X-APPLE-STRUCTURED-LOCATION;VALUE=URI;X-ADDRESS=Riverside Hemyock Devon EX15 3SH United Kingdom;X-APPLE-RADIUS=500;X-TITLE=Riverside:geo:-3.224196,50.918478
CATEGORIES:Culm Community Crayfish,Training & workshops,Volunteering
ATTACH;FMTTYPE=image/jpeg:https://blackdownhills.org.uk/wp-content/uploads/2018/03/mayfly-nimph-liam-marsh.jpg
ORGANIZER;CN="Blackdown%20Hills%20National%20Landscape":MAILTO:blackdownhills@devon.gov.uk
END:VEVENT
END:VCALENDAR