BEGIN:VCALENDAR
VERSION:2.0
PRODID:-//Blackdown Hills National Landscape - ECPv4.6.15//NONSGML v1.0//EN
CALSCALE:GREGORIAN
METHOD:PUBLISH
X-WR-CALNAME:Blackdown Hills National Landscape
X-ORIGINAL-URL:https://blackdownhills.org.uk
X-WR-CALDESC:Events for Blackdown Hills National Landscape
BEGIN:VEVENT
DTSTART;TZID=Europe/London:20180428T103000
DTEND;TZID=Europe/London:20180428T153000
DTSTAMP:20260425T234456
CREATED:20180320T155410Z
LAST-MODIFIED:20180418T194543Z
UID:1260-1524911400-1524929400@blackdownhills.org.uk
SUMMARY:Bird ID and river walk
DESCRIPTION:Join the Somerset Ornithological Society\, the British Trust for Ornithology and the Blackdown Hills AONB for a beginners guide to identifying bird life of the Blackdown Hills AONB. \nLearn how to identify a variety of common bird species by sight and sounds as well as an insight to some of the rarer species found within the AONB. There is also the opportunity to learn some survey methodology and how to submit your sightings using the Bird Track app so your data can be used towards the conservation of our birds. The day will end with a leisurely walk along the river to try spot some birds. \nBring a packed lunch\, warm weatherproof clothes and sturdy walking boots. If you have binoculars bring them along too! \nBooking is essential. \nBook online or call 01823 681 937 \n
URL:https://blackdownhills.org.uk/event/bird-id-river-walk-2/
LOCATION:EX15 3PL\, United Kingdom
GEO:50.9222983;-3.1899834
CATEGORIES:Culm Community Crayfish,Guided walk,Training & workshops,Volunteering
ATTACH;FMTTYPE=image/jpeg:https://blackdownhills.org.uk/wp-content/uploads/2018/03/dipper_web.jpg
ORGANIZER;CN="Blackdown%20Hills%20National%20Landscape":MAILTO:blackdownhills@devon.gov.uk
END:VEVENT
END:VCALENDAR